BEGIN:VCALENDAR
VERSION:2.0
PRODID:-//hacksw/handcal//NONSGML v1.0//EN
CALSCALE:GREGORIAN
BEGIN:VEVENT
LOCATION:
DESCRIPTION:https://www.columbusonthecheap.com/event/covered-bridge-trail-in-marysville-3/
DTSTART;TZID=America/New_York:20261003T000000
DTEND;TZID=America/New_York:20261003T235900
SUMMARY:Dine on a Covered Bridge (tickets required)
URL;VALUE=URI:https://www.columbusonthecheap.com/event/covered-bridge-trail-in-marysville-3/
DTSTAMP:20260421T132545
UID:69e7b319b49c4
END:VEVENT
END:VCALENDAR