BEGIN:VCALENDAR
VERSION:2.0
PRODID:-//hacksw/handcal//NONSGML v1.0//EN
CALSCALE:GREGORIAN
BEGIN:VEVENT
LOCATION:
DESCRIPTION:https://www.columbusonthecheap.com/event/covered-bridge-trail-in-marysville-2/
DTSTART;TZID=America/New_York:20260822T000000
DTEND;TZID=America/New_York:20260822T235900
SUMMARY:Dine on a Covered Bridge (tickets required)
URL;VALUE=URI:https://www.columbusonthecheap.com/event/covered-bridge-trail-in-marysville-2/
DTSTAMP:20260421T132821
UID:69e7b3b5593fc
END:VEVENT
END:VCALENDAR