BEGIN:VCALENDAR
VERSION:2.0
PRODID:-//hacksw/handcal//NONSGML v1.0//EN
CALSCALE:GREGORIAN
BEGIN:VEVENT
LOCATION:
DESCRIPTION:https://www.columbusonthecheap.com/event/earth-day-specials-and-events-16/
DTSTART;TZID=America/New_York:20260426T140000
DTEND;TZID=America/New_York:20260426T160000
SUMMARY:Children’s Garden Day at Inniswood Metro Gardens
URL;VALUE=URI:https://www.columbusonthecheap.com/event/earth-day-specials-and-events-16/
DTSTAMP:20260421T031120
UID:69e723188db24
END:VEVENT
END:VCALENDAR