BEGIN:VCALENDAR
VERSION:2.0
PRODID:-//hacksw/handcal//NONSGML v1.0//EN
CALSCALE:GREGORIAN
BEGIN:VEVENT
LOCATION:
DESCRIPTION:https://www.columbusonthecheap.com/event/earth-day-specials-and-events-15/
DTSTART;TZID=America/New_York:20260422T170000
DTEND;TZID=America/New_York:20260422T180000
SUMMARY:Earth Day S’mores at Scioto Grove
URL;VALUE=URI:https://www.columbusonthecheap.com/event/earth-day-specials-and-events-15/
DTSTAMP:20260421T031535
UID:69e72417a842c
END:VEVENT
END:VCALENDAR