BEGIN:VCALENDAR
VERSION:2.0
PRODID:-//hacksw/handcal//NONSGML v1.0//EN
CALSCALE:GREGORIAN
BEGIN:VEVENT
LOCATION:
DESCRIPTION:https://www.columbusonthecheap.com/event/earth-day-specials-and-events-14/
DTSTART;TZID=America/New_York:20260422T180000
DTEND;TZID=America/New_York:20260422T190000
SUMMARY:Earth Day Cleanup Hike! at Scioto Grove
URL;VALUE=URI:https://www.columbusonthecheap.com/event/earth-day-specials-and-events-14/
DTSTAMP:20260421T031551
UID:69e72427d66a7
END:VEVENT
END:VCALENDAR