BEGIN:VCALENDAR
VERSION:2.0
PRODID:-//hacksw/handcal//NONSGML v1.0//EN
CALSCALE:GREGORIAN
BEGIN:VEVENT
LOCATION:
DESCRIPTION:https://www.columbusonthecheap.com/event/earth-day-specials-and-events-13/
DTSTART;TZID=America/New_York:20260425T100000
DTEND;TZID=America/New_York:20260425T140000
SUMMARY:Earth Day Celebration at Lynd’s Fruit Farm
URL;VALUE=URI:https://www.columbusonthecheap.com/event/earth-day-specials-and-events-13/
DTSTAMP:20260423T062206
UID:69e9f2cea0f28
END:VEVENT
END:VCALENDAR