BEGIN:VCALENDAR
VERSION:2.0
PRODID:-//hacksw/handcal//NONSGML v1.0//EN
CALSCALE:GREGORIAN
BEGIN:VEVENT
LOCATION:
DESCRIPTION:https://www.columbusonthecheap.com/event/kalamazoo-ringers-concert-at-covenant-presbyterian-church/
DTSTART;TZID=America/New_York:20260424T190000
DTEND;TZID=America/New_York:20260424T203000
SUMMARY:Kalamazoo Ringers concert at Covenant Presbyterian Church
URL;VALUE=URI:https://www.columbusonthecheap.com/event/kalamazoo-ringers-concert-at-covenant-presbyterian-church/
DTSTAMP:20260421T142634
UID:69e7c15a054c9
END:VEVENT
END:VCALENDAR