BEGIN:VCALENDAR
VERSION:2.0
PRODID:-//hacksw/handcal//NONSGML v1.0//EN
CALSCALE:GREGORIAN
BEGIN:VEVENT
LOCATION:
DESCRIPTION:https://www.columbusonthecheap.com/event/lowes-build-grow-clinics-12/
DTSTART;TZID=America/New_York:20270116T100000
DTEND;TZID=America/New_York:20270116T130000
SUMMARY:Free Lowe's DIY Kids Workshop: Winter Play Lodge
URL;VALUE=URI:https://www.columbusonthecheap.com/event/lowes-build-grow-clinics-12/
DTSTAMP:20260421T175201
UID:69e7f181c3923
END:VEVENT
END:VCALENDAR