BEGIN:VCALENDAR
VERSION:2.0
PRODID:-//hacksw/handcal//NONSGML v1.0//EN
CALSCALE:GREGORIAN
BEGIN:VEVENT
LOCATION:
DESCRIPTION:https://www.columbusonthecheap.com/event/lowes-build-grow-clinics-11/
DTSTART;TZID=America/New_York:20261010T100000
DTEND;TZID=America/New_York:20261010T130000
SUMMARY:Lowe's DIY Kids' Workshop: Firefighting Plane
URL;VALUE=URI:https://www.columbusonthecheap.com/event/lowes-build-grow-clinics-11/
DTSTAMP:20260421T175054
UID:69e7f13e3916c
END:VEVENT
END:VCALENDAR