BEGIN:VCALENDAR
VERSION:2.0
PRODID:-//hacksw/handcal//NONSGML v1.0//EN
CALSCALE:GREGORIAN
BEGIN:VEVENT
LOCATION:
DESCRIPTION:https://www.columbusonthecheap.com/event/lowes-build-grow-clinics-10/
DTSTART;TZID=America/New_York:20260912T100000
DTEND;TZID=America/New_York:20260912T130000
SUMMARY:Free Lowe's DIY Kids Workshop: Haunted House
URL;VALUE=URI:https://www.columbusonthecheap.com/event/lowes-build-grow-clinics-10/
DTSTAMP:20260421T174749
UID:69e7f085e6b79
END:VEVENT
END:VCALENDAR