BEGIN:VCALENDAR
VERSION:2.0
PRODID:-//hacksw/handcal//NONSGML v1.0//EN
CALSCALE:GREGORIAN
BEGIN:VEVENT
LOCATION:Blacklick Woods Metro Park\, 6975 E Livingston Ave\, Reynoldsburg\, OH
DESCRIPTION:https://www.columbusonthecheap.com/event/pet-vaccine-clinics-columbus-humane/
DTSTART;TZID=America/New_York:20261027T110000
DTEND;TZID=America/New_York:20261027T140000
SUMMARY:Community Pet Vaccine Clinics at Blacklick Woods Golf Course
URL;VALUE=URI:https://www.columbusonthecheap.com/event/pet-vaccine-clinics-columbus-humane/
DTSTAMP:20260421T161359
UID:69e7da8734765
END:VEVENT
END:VCALENDAR