BEGIN:VCALENDAR
VERSION:2.0
PRODID:-//hacksw/handcal//NONSGML v1.0//EN
CALSCALE:GREGORIAN
BEGIN:VEVENT
LOCATION:Historic Crew Stadium\, 1 Black and Gold Blvd.\, Columbus\, OH
DESCRIPTION:https://www.columbusonthecheap.com/event/pet-vaccine-clinics-columbus-humane-7/
DTSTART;TZID=America/New_York:20260924T110000
DTEND;TZID=America/New_York:20260924T140000
SUMMARY:Community Pet Vaccine Clinics at Historic Crew Stadium
URL;VALUE=URI:https://www.columbusonthecheap.com/event/pet-vaccine-clinics-columbus-humane-7/
DTSTAMP:20260421T193407
UID:69e8096f08a09
END:VEVENT
END:VCALENDAR