BEGIN:VCALENDAR
VERSION:2.0
PRODID:-//hacksw/handcal//NONSGML v1.0//EN
CALSCALE:GREGORIAN
BEGIN:VEVENT
LOCATION:
DESCRIPTION:https://www.columbusonthecheap.com/event/pet-vaccine-clinics-columbus-humane-6/
DTSTART;TZID=America/New_York:20260818T110000
DTEND;TZID=America/New_York:20260818T140000
SUMMARY:Community Pet Vaccine Clinics at The Columbus Humane Essential Care Center
URL;VALUE=URI:https://www.columbusonthecheap.com/event/pet-vaccine-clinics-columbus-humane-6/
DTSTAMP:20260421T193724
UID:69e80a34028b1
END:VEVENT
END:VCALENDAR