BEGIN:VCALENDAR
VERSION:2.0
PRODID:-//hacksw/handcal//NONSGML v1.0//EN
CALSCALE:GREGORIAN
BEGIN:VEVENT
LOCATION:
DESCRIPTION:https://www.columbusonthecheap.com/event/pet-vaccine-clinics-columbus-humane-5/
DTSTART;TZID=America/New_York:20260721T110000
DTEND;TZID=America/New_York:20260721T140000
SUMMARY:Community Pet Vaccine Clinics at Hilliard Bradley High School
URL;VALUE=URI:https://www.columbusonthecheap.com/event/pet-vaccine-clinics-columbus-humane-5/
DTSTAMP:20260421T161409
UID:69e7da91afd58
END:VEVENT
END:VCALENDAR