BEGIN:VCALENDAR
VERSION:2.0
PRODID:-//hacksw/handcal//NONSGML v1.0//EN
CALSCALE:GREGORIAN
BEGIN:VEVENT
LOCATION:
DESCRIPTION:https://www.columbusonthecheap.com/event/pet-vaccine-clinics-columbus-humane-3/
DTSTART;TZID=America/New_York:20260526T110000
DTEND;TZID=America/New_York:20260526T140000
SUMMARY:Community Pet Vaccine Clinics at Potter’s House Church
URL;VALUE=URI:https://www.columbusonthecheap.com/event/pet-vaccine-clinics-columbus-humane-3/
DTSTAMP:20260421T174949
UID:69e7f0fd4ead1
END:VEVENT
END:VCALENDAR