BEGIN:VCALENDAR
VERSION:2.0
PRODID:-//hacksw/handcal//NONSGML v1.0//EN
CALSCALE:GREGORIAN
BEGIN:VEVENT
LOCATION:Bicentennial Park\, 233 Civic Center Dr\, Columbus\, OH
DESCRIPTION:https://www.columbusonthecheap.com/event/summer-fun-at-the-scioto-mile-3/
DTSTART;TZID=America/New_York:20260523T120000
DTEND;TZID=America/New_York:20260523T160000
SUMMARY:FREE Fountain Fest
URL;VALUE=URI:https://www.columbusonthecheap.com/event/summer-fun-at-the-scioto-mile-3/
DTSTAMP:20260424T154604
UID:69ebc87c641c6
END:VEVENT
END:VCALENDAR