BEGIN:VCALENDAR
VERSION:2.0
PRODID:-//hacksw/handcal//NONSGML v1.0//EN
CALSCALE:GREGORIAN
BEGIN:VEVENT
LOCATION:
DESCRIPTION:https://www.columbusonthecheap.com/event/earth-day-specials-and-events-12/
DTSTART;TZID=America/New_York:20260422T130000
DTEND;TZID=America/New_York:20260422T140000
SUMMARY:Earth Day Strike Team at Battelle Darby Creek (ages 10+)
URL;VALUE=URI:https://www.columbusonthecheap.com/event/earth-day-specials-and-events-12/
DTSTAMP:20260421T031826
UID:69e724c256f92
END:VEVENT
END:VCALENDAR