BEGIN:VCALENDAR
VERSION:2.0
PRODID:-//hacksw/handcal//NONSGML v1.0//EN
CALSCALE:GREGORIAN
BEGIN:VEVENT
LOCATION:
DESCRIPTION:https://www.columbusonthecheap.com/event/earth-day-specials-and-events-11/
DTSTART;TZID=America/New_York:20260422T160000
DTEND;TZID=America/New_York:20260422T180000
SUMMARY:Earth Day Extravaganza at Homestead
URL;VALUE=URI:https://www.columbusonthecheap.com/event/earth-day-specials-and-events-11/
DTSTAMP:20260421T031150
UID:69e723361afec
END:VEVENT
END:VCALENDAR