BEGIN:VCALENDAR
VERSION:2.0
PRODID:-//hacksw/handcal//NONSGML v1.0//EN
CALSCALE:GREGORIAN
BEGIN:VEVENT
LOCATION:Jack Pine Studio\, 21397 OH-180\, Ohio
DESCRIPTION:https://www.columbusonthecheap.com/event/jack-pine-studio-glass-art-3/
DTSTART;TZID=America/New_York:20260502T100000
DTEND;TZID=America/New_York:20260502T190000
SUMMARY:Jack Pine Glass Garden Spring Art Festival
URL;VALUE=URI:https://www.columbusonthecheap.com/event/jack-pine-studio-glass-art-3/
DTSTAMP:20260420T102352
UID:69e636f86975c
END:VEVENT
END:VCALENDAR