BEGIN:VCALENDAR
VERSION:2.0
PRODID:-//hacksw/handcal//NONSGML v1.0//EN
CALSCALE:GREGORIAN
BEGIN:VEVENT
LOCATION:
DESCRIPTION:https://www.columbusonthecheap.com/event/lowes-build-grow-clinics-9/
DTSTART;TZID=America/New_York:20260711T100000
DTEND;TZID=America/New_York:20260711T130000
SUMMARY:Free Lowe's DIY Kids Workshop: Mini Toy Box
URL;VALUE=URI:https://www.columbusonthecheap.com/event/lowes-build-grow-clinics-9/
DTSTAMP:20260421T174848
UID:69e7f0c0ee45a
END:VEVENT
END:VCALENDAR