BEGIN:VCALENDAR
VERSION:2.0
PRODID:-//hacksw/handcal//NONSGML v1.0//EN
CALSCALE:GREGORIAN
BEGIN:VEVENT
LOCATION:
DESCRIPTION:https://www.columbusonthecheap.com/event/lowes-build-grow-clinics-8/
DTSTART;TZID=America/New_York:20260613T100000
DTEND;TZID=America/New_York:20260613T130000
SUMMARY:Free Lowe's DIY Kids Workshop: Trophy Cup
URL;VALUE=URI:https://www.columbusonthecheap.com/event/lowes-build-grow-clinics-8/
DTSTAMP:20260421T175042
UID:69e7f1320088b
END:VEVENT
END:VCALENDAR