BEGIN:VCALENDAR
VERSION:2.0
PRODID:-//hacksw/handcal//NONSGML v1.0//EN
CALSCALE:GREGORIAN
BEGIN:VEVENT
LOCATION:Thurber Center\, 91 Jefferson Avenue\, Columbus\, OH
DESCRIPTION:https://www.columbusonthecheap.com/event/aldus-society-literary-talks-8/
DTSTART;TZID=America/New_York:20260514T190000
DTEND;TZID=America/New_York:20260514T203000
SUMMARY:Aldus Society Literary Talks: Ron Shaull presents “A History of Paper\, From Pulp to Pixel
URL;VALUE=URI:https://www.columbusonthecheap.com/event/aldus-society-literary-talks-8/
DTSTAMP:20260425T133434
UID:69ecfb2a14ddf
END:VEVENT
END:VCALENDAR