BEGIN:VCALENDAR
VERSION:2.0
PRODID:-//hacksw/handcal//NONSGML v1.0//EN
CALSCALE:GREGORIAN
BEGIN:VEVENT
LOCATION:
DESCRIPTION:https://www.columbusonthecheap.com/event/lowes-build-grow-clinics-6/
DTSTART;TZID=America/New_York:20261212T100000
DTEND;TZID=America/New_York:20261212T130000
SUMMARY:Free Lowe's DIY Kids Workshop: Holiday Trolley Car
URL;VALUE=URI:https://www.columbusonthecheap.com/event/lowes-build-grow-clinics-6/
DTSTAMP:20260421T175313
UID:69e7f1c9338e6
END:VEVENT
END:VCALENDAR