BEGIN:VCALENDAR
VERSION:2.0
PRODID:-//hacksw/handcal//NONSGML v1.0//EN
CALSCALE:GREGORIAN
BEGIN:VEVENT
LOCATION:Jack Pine Studio\, 21397 OH-180\, Ohio
DESCRIPTION:https://www.columbusonthecheap.com/event/jack-pine-studio-glass-art-2/
DTSTART;TZID=America/New_York:20260501T120000
DTEND;TZID=America/New_York:20260501T190000
SUMMARY:Jack Pine Glass Garden Spring Art Festival
URL;VALUE=URI:https://www.columbusonthecheap.com/event/jack-pine-studio-glass-art-2/
DTSTAMP:20260420T101943
UID:69e635fff1a3f
END:VEVENT
END:VCALENDAR