BEGIN:VCALENDAR
VERSION:2.0
PRODID:-//hacksw/handcal//NONSGML v1.0//EN
CALSCALE:GREGORIAN
BEGIN:VEVENT
LOCATION:
DESCRIPTION:https://www.columbusonthecheap.com/event/touch-a-truck-events-in-columbus-6/
DTSTART;TZID=America/New_York:20260516T110000
DTEND;TZID=America/New_York:20260516T130000
SUMMARY:Touch a Truck at Prairie Township Community Center
URL;VALUE=URI:https://www.columbusonthecheap.com/event/touch-a-truck-events-in-columbus-6/
DTSTAMP:20260421T015702
UID:69e711aee2185
END:VEVENT
END:VCALENDAR