BEGIN:VCALENDAR
VERSION:2.0
PRODID:-//hacksw/handcal//NONSGML v1.0//EN
CALSCALE:GREGORIAN
BEGIN:VEVENT
LOCATION:
DESCRIPTION:https://www.columbusonthecheap.com/event/earth-day-specials-and-events-7/
DTSTART;TZID=America/New_York:20260422T150000
DTEND;TZID=America/New_York:20260422T170000
SUMMARY:Make Earth Day Nature Notebooks – Alum Creek
URL;VALUE=URI:https://www.columbusonthecheap.com/event/earth-day-specials-and-events-7/
DTSTAMP:20260421T031412
UID:69e723c48a981
END:VEVENT
END:VCALENDAR