BEGIN:VCALENDAR
VERSION:2.0
PRODID:-//hacksw/handcal//NONSGML v1.0//EN
CALSCALE:GREGORIAN
BEGIN:VEVENT
LOCATION:
DESCRIPTION:https://www.columbusonthecheap.com/event/earth-day-specials-and-events-6/
DTSTART;TZID=America/New_York:20260425T130000
DTEND;TZID=America/New_York:20260425T140000
SUMMARY:Earth Day 2 Mile Clean-up Hike  – Alum Creek
URL;VALUE=URI:https://www.columbusonthecheap.com/event/earth-day-specials-and-events-6/
DTSTAMP:20260421T031719
UID:69e7247fbef90
END:VEVENT
END:VCALENDAR