BEGIN:VCALENDAR
VERSION:2.0
PRODID:-//hacksw/handcal//NONSGML v1.0//EN
CALSCALE:GREGORIAN
BEGIN:VEVENT
LOCATION:Columbus Zoo and Aquarium\, 4850 W Powell Rd\, Powell\, OH
DESCRIPTION:https://www.columbusonthecheap.com/event/columbus-zoo-earth-day-celebration-6/
DTSTART;TZID=America/New_York:20260422T110000
DTEND;TZID=America/New_York:20260422T150000
SUMMARY:Recycling Drive
URL;VALUE=URI:https://www.columbusonthecheap.com/event/columbus-zoo-earth-day-celebration-6/
DTSTAMP:20260421T063536
UID:69e752f80483f
END:VEVENT
END:VCALENDAR