BEGIN:VCALENDAR
VERSION:2.0
PRODID:-//hacksw/handcal//NONSGML v1.0//EN
CALSCALE:GREGORIAN
BEGIN:VEVENT
LOCATION:Columbus Zoo and Aquarium\, 4850 W Powell Rd\, Powell\, OH
DESCRIPTION:https://www.columbusonthecheap.com/event/columbus-zoo-earth-day-celebration-4/
DTSTART;TZID=America/New_York:20260421T110000
DTEND;TZID=America/New_York:20260421T150000
SUMMARY:Battery Donation Drive
URL;VALUE=URI:https://www.columbusonthecheap.com/event/columbus-zoo-earth-day-celebration-4/
DTSTAMP:20260421T051028
UID:69e73f0424967
END:VEVENT
END:VCALENDAR