BEGIN:VCALENDAR
VERSION:2.0
PRODID:-//hacksw/handcal//NONSGML v1.0//EN
CALSCALE:GREGORIAN
BEGIN:VEVENT
LOCATION:
DESCRIPTION:https://www.columbusonthecheap.com/event/urban-living-tour/
DTSTART;TZID=America/New_York:20260503T090000
DTEND;TZID=America/New_York:20260503T170000
SUMMARY:Columbus Underground Urban Living Tour
URL;VALUE=URI:https://www.columbusonthecheap.com/event/urban-living-tour/
DTSTAMP:20260420T170130
UID:69e6942ab925c
END:VEVENT
END:VCALENDAR