BEGIN:VCALENDAR
VERSION:2.0
PRODID:-//hacksw/handcal//NONSGML v1.0//EN
CALSCALE:GREGORIAN
BEGIN:VEVENT
LOCATION:Jack Pine Studio\, 21397 OH-180\, Ohio
DESCRIPTION:https://www.columbusonthecheap.com/event/jack-pine-studio-glass-art/
DTSTART;TZID=America/New_York:20260503T100000
DTEND;TZID=America/New_York:20260503T170000
SUMMARY:Jack Pine Glass Garden Spring Art Festival
URL;VALUE=URI:https://www.columbusonthecheap.com/event/jack-pine-studio-glass-art/
DTSTAMP:20260420T102142
UID:69e63676ce7bb
END:VEVENT
END:VCALENDAR