BEGIN:VCALENDAR
VERSION:2.0
PRODID:-//hacksw/handcal//NONSGML v1.0//EN
CALSCALE:GREGORIAN
BEGIN:VEVENT
LOCATION:Chadwick Arboretum\, 2021 Fyffe Court\, Columbus\, OH
DESCRIPTION:https://www.columbusonthecheap.com/event/earth-day-specials-and-events-5/
DTSTART;TZID=America/New_York:20260424T100000
DTEND;TZID=America/New_York:20260424T113000
SUMMARY:Chadwick Arboretum Earth Day/Arbor Day Celebration
URL;VALUE=URI:https://www.columbusonthecheap.com/event/earth-day-specials-and-events-5/
DTSTAMP:20260421T031756
UID:69e724a48a510
END:VEVENT
END:VCALENDAR