BEGIN:VCALENDAR
VERSION:2.0
PRODID:-//hacksw/handcal//NONSGML v1.0//EN
CALSCALE:GREGORIAN
BEGIN:VEVENT
LOCATION:
DESCRIPTION:https://www.columbusonthecheap.com/event/lowes-build-grow-clinics-2/
DTSTART;TZID=America/New_York:20260516T100000
DTEND;TZID=America/New_York:20260516T130000
SUMMARY:Lowe's Free DIY Kids Workshop: Garden Basket
URL;VALUE=URI:https://www.columbusonthecheap.com/event/lowes-build-grow-clinics-2/
DTSTAMP:20260421T161901
UID:69e7dbb58b4ee
END:VEVENT
END:VCALENDAR