BEGIN:VCALENDAR
VERSION:2.0
PRODID:-//hacksw/handcal//NONSGML v1.0//EN
CALSCALE:GREGORIAN
BEGIN:VEVENT
LOCATION:
DESCRIPTION:https://www.columbusonthecheap.com/event/lowes-build-grow-clinics-5/
DTSTART;TZID=America/New_York:20261114T100000
DTEND;TZID=America/New_York:20261114T130000
SUMMARY:Lowe's Free DIY Kids Workshop: Holiday Engine
URL;VALUE=URI:https://www.columbusonthecheap.com/event/lowes-build-grow-clinics-5/
DTSTAMP:20260421T193851
UID:69e80a8bd9ca1
END:VEVENT
END:VCALENDAR