BEGIN:VCALENDAR
VERSION:2.0
PRODID:-//hacksw/handcal//NONSGML v1.0//EN
CALSCALE:GREGORIAN
BEGIN:VEVENT
LOCATION:Ohio Expo Center\, 717 East 17th Ave\, Columbus\, OH
DESCRIPTION:https://www.columbusonthecheap.com/event/buckeye-model-train-show-2/
DTSTART;TZID=America/New_York:20260425T090000
DTEND;TZID=America/New_York:20260425T160000
SUMMARY:Buckeye Model Train Show and Sale
URL;VALUE=URI:https://www.columbusonthecheap.com/event/buckeye-model-train-show-2/
DTSTAMP:20260421T124636
UID:69e7a9ec85521
END:VEVENT
END:VCALENDAR