BEGIN:VCALENDAR
VERSION:2.0
PRODID:-//hacksw/handcal//NONSGML v1.0//EN
CALSCALE:GREGORIAN
BEGIN:VEVENT
LOCATION:Columbus Zoo and Aquarium\, 4850 W Powell Rd\, Powell\, OH
DESCRIPTION:https://www.columbusonthecheap.com/event/columbus-zoo-earth-day-celebration-2/
DTSTART;TZID=America/New_York:20260423T110000
DTEND;TZID=America/New_York:20260423T150000
SUMMARY:Electronic Recycling Drive with Accurate IT Services
URL;VALUE=URI:https://www.columbusonthecheap.com/event/columbus-zoo-earth-day-celebration-2/
DTSTAMP:20260423T044351
UID:69e9dbc714ea9
END:VEVENT
END:VCALENDAR