BEGIN:VCALENDAR
VERSION:2.0
PRODID:-//hacksw/handcal//NONSGML v1.0//EN
CALSCALE:GREGORIAN
BEGIN:VEVENT
LOCATION:Delaware County Fairgrounds\, 236 Pennsylvania Avenue \, Delaware\, OH
DESCRIPTION:https://www.columbusonthecheap.com/event/delaware-county-fair-and-little-brown-jug-3/
DTSTART;TZID=America/New_York:20260924T000000
DTEND;TZID=America/New_York:20260924T000000
SUMMARY:Little Brown Jug at Delaware County Fair
URL;VALUE=URI:https://www.columbusonthecheap.com/event/delaware-county-fair-and-little-brown-jug-3/
DTSTAMP:20260420T134730
UID:69e666b282fc8
END:VEVENT
END:VCALENDAR