BEGIN:VCALENDAR
VERSION:2.0
PRODID:-//hacksw/handcal//NONSGML v1.0//EN
CALSCALE:GREGORIAN
BEGIN:VEVENT
LOCATION:Delaware County Fairgrounds\, 236 Pennsylvania Avenue \, Delaware\, OH
DESCRIPTION:https://www.columbusonthecheap.com/event/delaware-county-fair-and-little-brown-jug-2/
DTSTART;TZID=America/New_York:20260913T150000
DTEND;TZID=America/New_York:20260913T170000
SUMMARY:All Horse Parade in Delaware
URL;VALUE=URI:https://www.columbusonthecheap.com/event/delaware-county-fair-and-little-brown-jug-2/
DTSTAMP:20260420T141814
UID:69e66de6582a0
END:VEVENT
END:VCALENDAR