BEGIN:VCALENDAR
VERSION:2.0
PRODID:-//hacksw/handcal//NONSGML v1.0//EN
CALSCALE:GREGORIAN
BEGIN:VEVENT
LOCATION:
DESCRIPTION:https://www.columbusonthecheap.com/event/annual-central-ohio-folk-festival-2/
DTSTART;TZID=America/New_York:20260607T000000
DTEND;TZID=America/New_York:20260607T000000
SUMMARY:Annual Central Ohio Folk Festival
URL;VALUE=URI:https://www.columbusonthecheap.com/event/annual-central-ohio-folk-festival-2/
DTSTAMP:20260421T162052
UID:69e7dc245b325
END:VEVENT
END:VCALENDAR